BEGIN:VCALENDAR
VERSION:2.0
PRODID:-//ΛΑΚΩΝΙΚΗ ΣΧΟΛΗ - Εκπαιδευτήρια Φραγκή - ECPv5.1.4//NONSGML v1.0//EN
CALSCALE:GREGORIAN
METHOD:PUBLISH
X-WR-CALNAME:ΛΑΚΩΝΙΚΗ ΣΧΟΛΗ - Εκπαιδευτήρια Φραγκή
X-ORIGINAL-URL:https://www.lakoniki-fragi.gr
X-WR-CALDESC:ΛΑΚΩΝΙΚΗ ΣΧΟΛΗ - Εκπαιδευτήρια Φραγκή - Εκδηλώσεις
BEGIN:VTIMEZONE
TZID:UTC
BEGIN:STANDARD
TZOFFSETFROM:+0000
TZOFFSETTO:+0000
TZNAME:UTC
DTSTART:20200101T000000
END:STANDARD
END:VTIMEZONE
BEGIN:VEVENT
DTSTART;VALUE=DATE:20201028
DTEND;VALUE=DATE:20201029
DTSTAMP:20260419T155431
CREATED:20201026T081741Z
LAST-MODIFIED:20201029T073737Z
UID:20372-1603843200-1603929599@www.lakoniki-fragi.gr
SUMMARY:Εθνική Επέτειος για την 28η Οκτωβρίου
DESCRIPTION:Αργία – Το σχολείο θα παραμείνει κλειστό για τον εορτασμό της επετείου της 28ης Οκτωβρίου 1940. \n
URL:https://www.lakoniki-fragi.gr/event/%ce%b5%ce%b8%ce%bd%ce%b9%ce%ba%ce%ae-%ce%b5%cf%80%ce%ad%cf%84%ce%b5%ce%b9%ce%bf%cf%82-%ce%b3%ce%b9%ce%b1-%cf%84%ce%b7%ce%bd-28%ce%b7-%ce%bf%ce%ba%cf%84%cf%89%ce%b2%cf%81%ce%af%ce%bf%cf%85/
CATEGORIES:Σχολικές Εκδηλώσεις
END:VEVENT
END:VCALENDAR